BEGIN:VCALENDAR
VERSION:2.0
BEGIN:VEVENT
STATUS:CONFIRMED
DESCRIPTION:**Humour**\n\nUltra-active sur les réseaux, aussi chroniqueus
 e sur France Inter, ***[Emma Bojan](https://www.instagram.com/emmacandche
 ese/)*** représente une Gen Z vulnérable, authentique et un peu décalée. 
 Son humour, souvent absurde, touche notre intimité et nous remet à la rec
 herche de notre place dans ce monde qui pue un peu l'horreur.\n\n***Atten
 ds-moi, j'arrive!***\n"Fuck madame Bouléro et la 5e b qui n'avaient jamai
 s cru en moi.\nSurement le plus gros banger de tous mes spectacles (et au
 ssi le premier).\nAimer tous les jours, pleurer un peu et parler beaucoup
 , voilà ce qui prend le plus de temps, voilà pourquoi je suis souvent en 
 retard et je dis "Attends moi, j'arrive".\nJ'arrive sur scène, dans un ba
 r ou dans le coeur des gens que j'aime, comme partout, un peu en retard m
 ais rassurez vous je suis bien partie."\n\nenv. 1h10\n\nCo-auteur : Etien
 ne Lautrette\n\n\n---\n\n❤️‍🔥 Entrée libre avec l’**AG culturel** et le *
 *Pass Bienvenue Bulle**.\n\n*Plus d’infos sur la réservation avec l’AG Cu
 lturel [ici](https://www.ebull.ch/fr/abonnements).*\n\n❤️‍🔥 Rabais de 50%
  sur l’entrée avec la **Carte Culture Caritas**.\n
CLASS:PUBLIC
UID:1a914a1e-c4d5-4e15-8ec3-d0e1c2066dac
URL:https://nyght.ch/events/1a914a1e-c4d5-4e15-8ec3-d0e1c2066dac
SUMMARY:⚠️ ANNULÉ ⚠️ +Emma Bojan + "Attends-moi, j'arrive!"
LAST-MODIFIED:20260227T160738Z
DTSTAMP:20260422T040737Z
DTSTART:20260301T180000Z
DTEND:20260301T220000Z
END:VEVENT
METHOD:PUBLISH
PRODID:-//Nyght//iCal API//EN
CALSCALE:GREGORIAN
END:VCALENDAR