BEGIN:VCALENDAR
VERSION:2.0
BEGIN:VEVENT
STATUS:CONFIRMED
DESCRIPTION:***Dub & Roots Music***\n\n\nLa dixième SOUND & CULTURE avec 
 Kalabray Sound System!\n\n***Sound System Meeting***\n\n👉 Redubtion Sound
  System\n\n👉 Djiman\n\n👉 Weedax\n\n👉 Kalabray Sound System\n\n+ Records &
  Merch & Food with [AfriBulle](https://www.facebook.com/AFRIBULLE/)\n\n\n
 ---\n\n❤️‍🔥 Entrée libre avec l’**AG culturel** et le **Pass Bienvenue Bu
 lle**.\n\n*Plus d’infos sur la réservation avec l’AG Culturel [ici](https
 ://www.ebull.ch/fr/abonnements).*\n\n❤️‍🔥 Rabais de 50% sur l’entrée avec
  la **Carte Culture Caritas**.
CLASS:PUBLIC
UID:1a29118a-4ddd-4ee2-aa7d-ade7aebebe62
URL:https://nyght.ch/events/1a29118a-4ddd-4ee2-aa7d-ade7aebebe62
SUMMARY:Sound & Culture #10 by Kalabray Sound System
LAST-MODIFIED:20260217T163819Z
DTSTAMP:20260422T113204Z
DTSTART:20260221T200000Z
DTEND:20260222T020000Z
END:VEVENT
METHOD:PUBLISH
PRODID:-//Nyght//iCal API//EN
CALSCALE:GREGORIAN
END:VCALENDAR