BEGIN:VCALENDAR
VERSION:2.0
BEGIN:VEVENT
STATUS:CONFIRMED
DESCRIPTION:**Spectacle d'impro**\n\nLa saison du Catch impro revient dan
 s une version mêlant vintage et nouveautés!\n\n\n*"Pour célébrer nos 20 a
 ns, deux duos mythiques des éditions précédentes se sont reformés - les G
 orgones et les Précieuses - et rencontreront deux duos inédits - les Pira
 tes de Thusis et Los Luchadores, lors de trois soirées préparées par notr
 e talentueuse arbitre Ana Rodriguez."*\n\n\nCe Jeudi 12 février, les Pira
 tes de Thusis défient les Luchadores: soyez sûr que la nouveauté va faire
  couler beaucoup de sang.\n\n\n* Jeudi 5 mars: Douceur, mesquineries et a
 llures mystiques seront au rdv et détermineront qui, des Gorgonnes ou des
  Précieuses, se qualifieront pour la finale.\n* Jeudi 23 avril: tous les 
 duos seront sur scène pour se disputer les places du podium!\n\n\n\n// Ou
 verture des portes à 19h00, spectacle à 20h00
CLASS:PUBLIC
UID:168a685c-163b-4fdb-b616-fcb54e302baf
URL:https://nyght.ch/events/168a685c-163b-4fdb-b616-fcb54e302baf
SUMMARY:Les ImprOvisibles + "Catch #1"
LAST-MODIFIED:20260202T152838Z
DTSTAMP:20260422T204723Z
DTSTART:20260212T180000Z
DTEND:20260212T225900Z
END:VEVENT
METHOD:PUBLISH
PRODID:-//Nyght//iCal API//EN
CALSCALE:GREGORIAN
END:VCALENDAR