BEGIN:VCALENDAR
VERSION:2.0
BEGIN:VEVENT
STATUS:CONFIRMED
DESCRIPTION:**603** **// Cloud Rap, RnB alternatif**\n\nLes soirées 600 (
 à lire “cis-sans”) célèbrent la diversité et l’inclusivité en offrant une
  scène aux artistes femmes, personnes queer, trans et non-binaires. Nous 
 avons choisi de mettre en lumière des artistes issu·e·x·s de différentes 
 identités de genre pour favoriser une scène plus diversifiée et inclusive
 .\n\nCes soirées sont ouvertes à toustes, sans exception. Viens célébrer 
 la diversité avec nous <3\n\n# le talu\nNouvelle figure prometteuse de la
  scène émergente francophone basé·e à Bruxelles, le talu déploie un unive
 rs immersif, entre cloud rap, post trip hop, ASMR érotique et pop digital
 e triste. Accompagné·e sur scène par la productrice et compositrice Maïa 
 Blondeau, iel propose un live intime & colérique, porté par l’aura incand
 escente d’une communauté émo, queer et contestataire.\n\n# Isia\n\nArtist
 e suisse et brésilienne et ancienne danseuse urbaine, elle s’est rapideme
 nt liée et passionnée de musique. Sa voix se fond avec élégance dans des 
 mélodies de soul et de RnB alternatif. Isia puise son inspiration chez de
 s femmes talentueuses comme Sevdaliza, Fka Twigs, Lana Del Rey et Alia Ka
 dir. Par ailleurs, elle chante en trois langues (français, anglais, portu
 gais du Brésil), ce qui lui offre une palette d’expressions variées qui e
 nrichit ses créations. Sur scène, c’est l’intensité émotionnelle qui tran
 site entre le public et Isia, créant une énergie puissante et émouvante.\
 n\n\n* Isia / 20h45\n* Le Talu / 22h00
CLASS:PUBLIC
UID:0e7c4db2-b90f-4f52-addd-9876803b7531
URL:https://nyght.ch/events/0e7c4db2-b90f-4f52-addd-9876803b7531
SUMMARY:"603" avec le talu (BE) + Isia (CH/BR)
LAST-MODIFIED:20251115T104933Z
DTSTAMP:20260424T144244Z
DTSTART:20251121T190000Z
DTEND:20251122T000000Z
END:VEVENT
METHOD:PUBLISH
PRODID:-//Nyght//iCal API//EN
CALSCALE:GREGORIAN
END:VCALENDAR