BEGIN:VCALENDAR
VERSION:2.0
BEGIN:VEVENT
STATUS:CONFIRMED
DESCRIPTION:**Party & Karaoké**\n\nEbullition est de retour pour secouer 
 ton réveillon de Noël ! \nViens dès 22h pour ne rien louper de la traditi
 onnelle Santa Klaus Party, qui va te prouver que le père Noël existe... e
 t qu'il sait chanter !
CLASS:PUBLIC
UID:0ba448a7-85b6-4675-8bdf-39aefd0ec799
URL:https://nyght.ch/events/0ba448a7-85b6-4675-8bdf-39aefd0ec799
SUMMARY:Santa Klaus Party ★ Karaoké de Noël
LAST-MODIFIED:20251223T102215Z
DTSTAMP:20260423T165615Z
DTSTART:20251224T210000Z
DTEND:20251225T010000Z
END:VEVENT
METHOD:PUBLISH
PRODID:-//Nyght//iCal API//EN
CALSCALE:GREGORIAN
END:VCALENDAR