BEGIN:VCALENDAR
VERSION:2.0
BEGIN:VEVENT
STATUS:CONFIRMED
DESCRIPTION:Il est de retour ! Animé par une nouvelle équipe, probablemen
 t recrutée après un concert et trois shots de Braise...\n\nViens t'ambian
 cer en pull de Noël moche et danser la javanaise ! ⚡️ ❤️‍ 🔥🌙
CLASS:PUBLIC
UID:07267dd0-a16c-472b-b99f-6b01d9f13160
URL:https://nyght.ch/events/07267dd0-a16c-472b-b99f-6b01d9f13160
SUMMARY:Blindtest de Noël
LAST-MODIFIED:20251216T085014Z
DTSTAMP:20260423T201513Z
DTSTART:20251219T200000Z
DTEND:20251220T010000Z
END:VEVENT
METHOD:PUBLISH
PRODID:-//Nyght//iCal API//EN
CALSCALE:GREGORIAN
END:VCALENDAR