BEGIN:VCALENDAR
VERSION:2.0
BEGIN:VEVENT
STATUS:CONFIRMED
DESCRIPTION:Electro Indie Pop\n\n# Miel de Montagne\nEntre Jacques et Phi
 lippe Katerine, Miel de Montagne de son vrai nom Milan Kanche, est un aut
 eur-compositeur-interprète français qui s’est révélé au grand public en 2
 018 avec son premier EP. Sa musique, teintée de pop et d’électro, chante 
 la vie simple, les amours et les questionnements existentiels d’un jeune 
 homme.\nhttps://www.youtube.com/watch?v=4amIpEP0_wo\n\n# Poligone\nTelle 
 une forme géométrique aux multiples angles d'influences, Hugo et Pauline 
 nous rappellent L'Impératrice, Odezenne, Flavien Berger ou encore Barbara
 . Comme un refuge après la tempête, le jeune duo capture la douce brutali
 té de la vie pour laisser place à une poésie envoûtante.\nhttps://youtu.b
 e/63LpBnvWzCA?si=vTJZJso7ex62gXPV\n\n* Poligone / 20h45\n* Miel de Montag
 ne / 22h00
CLASS:PUBLIC
UID:065697ae-2676-40e2-b12d-ed5f509442d4
URL:https://nyght.ch/events/065697ae-2676-40e2-b12d-ed5f509442d4
SUMMARY:Miel de Montagne (FR) + Poligone (CH)
LAST-MODIFIED:20251112T120624Z
DTSTAMP:20260424T013839Z
DTSTART:20251211T190000Z
DTEND:20251211T225900Z
END:VEVENT
METHOD:PUBLISH
PRODID:-//Nyght//iCal API//EN
CALSCALE:GREGORIAN
END:VCALENDAR