BEGIN:VCALENDAR
VERSION:2.0
BEGIN:VEVENT
STATUS:CONFIRMED
DESCRIPTION:**Desert Hearts (1985)**\n\n**PORTES 20h00, DEBUT 20H30**\n\n
 Un max de fun pour cette nouvelle séance de cinéma à prix libre ! Tu te p
 ointes, tu prends ton pop-corn offert, et tu profites du meilleur ratio t
 aille d’écran/prix du siège de l’univers.\n\n**Cette semaine**: *Desert H
 earts* (1985, US) de Donna Deitch\n\nNevada, années 50. Une professeure f
 raîchement divorcée croise la route d’une jeune femme libre et flamboyant
 e : leur rencontre devient une histoire d’amour inattendue, tendre et brû
 lante, au cœur du désert. Premier film lesbien indépendant américain à co
 nnaître une diffusion large, Desert Hearts a marqué les esprits par sa se
 nsualité et son regard lumineux sur l’amour entre femmes.\n\nOuvert aux p
 ersonnes en possession d'un carabiner.\n\n**TW:** nudité frontale / homop
 hobie (internalisée) \n\n\n---\n\n❤️‍🔥 Entrée libre et popcorn offert !\n
CLASS:PUBLIC
UID:0292a1e5-9de7-4eb4-8a6a-5f198bcc0bc2
URL:https://nyght.ch/events/0292a1e5-9de7-4eb4-8a6a-5f198bcc0bc2
SUMMARY:Cinébull : projection 7
LAST-MODIFIED:20260303T090705Z
DTSTAMP:20260421T173345Z
DTSTART:20260326T190000Z
DTEND:20260326T230000Z
END:VEVENT
METHOD:PUBLISH
PRODID:-//Nyght//iCal API//EN
CALSCALE:GREGORIAN
END:VCALENDAR